BEGIN:VCALENDAR
PRODID:-//http://statistik.d-u-v.org//PHP ultracalendar//EN
VERSION:2.0
METHOD:PUBLISH
BEGIN:VEVENT
DTSTAMP:20260419T192441
CREATED:20211114T095952
UID:1776626681.0.60511800-81240@statistik.d-u-v.org
SUMMARY:Seychelles 24 Hour Walking Race
DESCRIPTION: Seychelles 24 Hour Walking Race\n
  \n
  
DTSTART:20150826T060000
DTEND:20150829T120000
LOCATION:Victoria City\, SEY
URL:http://www.centurions.org.au/newsletters/2015-n07-sep.pdf
CATEGORIES:Ultramarathon
CONTACT:
CLASS:PUBLIC
PRIORITY:5
TRANSP:OPAQUE
END:VEVENT
END:VCALENDAR
