BEGIN:VCALENDAR
PRODID:-//http://statistik.d-u-v.org//PHP ultracalendar//EN
VERSION:2.0
METHOD:PUBLISH
BEGIN:VEVENT
DTSTAMP:20260424T204314
CREATED:20211111T162547
UID:1777063394.0.75895500-81192@statistik.d-u-v.org
SUMMARY:Summer Trailfest Ultra 50 km Race
DESCRIPTION: Summer Trailfest Ultra 50 km Race\n
  \n
  
DTSTART:20220618T000000
DTEND:00000000T235900
LOCATION:Laingsburg, MI\, USA
URL:https://triviumracing.com
CATEGORIES:Ultramarathon
CONTACT:
CLASS:PUBLIC
PRIORITY:5
TRANSP:OPAQUE
END:VEVENT
END:VCALENDAR
