BEGIN:VCALENDAR
PRODID:-//http://statistik.d-u-v.org//PHP ultracalendar//EN
VERSION:2.0
METHOD:PUBLISH
BEGIN:VEVENT
DTSTAMP:20260420T031935
CREATED:20211110T144327
UID:1776655175.0.80362800-81161@statistik.d-u-v.org
SUMMARY:Two Hearted Trail Run
DESCRIPTION: Two Hearted Trail Run\n
  Jeff Crumbaugh\n
  info[at]greatlakesendurance.com
DTSTART:20210626T070000
DTEND:00000000T235900
LOCATION:Paradise, MI\, USA
URL:http://www.greatlakesendurance.com
CATEGORIES:Ultramarathon
CONTACT:Jeff Crumbaugh
CLASS:PUBLIC
PRIORITY:5
TRANSP:OPAQUE
END:VEVENT
END:VCALENDAR
