BEGIN:VCALENDAR
PRODID:-//http://statistik.d-u-v.org//PHP ultracalendar//EN
VERSION:2.0
METHOD:PUBLISH
BEGIN:VEVENT
DTSTAMP:20260419T185757
CREATED:20211108T151045
UID:1776625077.0.76319300-81083@statistik.d-u-v.org
SUMMARY:San Juan Solstice 50 Mile Run
DESCRIPTION: San Juan Solstice 50 Mile Run\n
  Jerry Gray, Race Director\n
  info[at]lakecity50.com
DTSTART:20220625T000000
DTEND:00000000T235900
LOCATION:Lake City, CO\, USA
URL:https://www.sjs50.com/
CATEGORIES:Ultramarathon
CONTACT:Jerry Gray, Race Director
CLASS:PUBLIC
PRIORITY:5
TRANSP:OPAQUE
END:VEVENT
END:VCALENDAR
