BEGIN:VCALENDAR
PRODID:-//http://statistik.d-u-v.org//PHP ultracalendar//EN
VERSION:2.0
METHOD:PUBLISH
BEGIN:VEVENT
DTSTAMP:20260422T194012
CREATED:20211108T143422
UID:1776886812.0.62133300-81080@statistik.d-u-v.org
SUMMARY:Manitou's Revenge Ultramarathon
DESCRIPTION: Manitou's Revenge Ultramarathon\n
  \n
  
DTSTART:20220625T050000
DTEND:20220626T235900
LOCATION:Windham, NY\, USA
URL:http://www.manitousrevengeultra.com
CATEGORIES:Ultramarathon
CONTACT:
CLASS:PUBLIC
PRIORITY:5
TRANSP:OPAQUE
END:VEVENT
END:VCALENDAR
