BEGIN:VCALENDAR
PRODID:-//http://statistik.d-u-v.org//PHP ultracalendar//EN
VERSION:2.0
METHOD:PUBLISH
BEGIN:VEVENT
DTSTAMP:20260423T014739
CREATED:20211103T215530
UID:1776908859.0.62512500-80965@statistik.d-u-v.org
SUMMARY:Horsens bygholm park 6 timers løb 
DESCRIPTION: Horsens bygholm park 6 timers løb \n
  \n
  
DTSTART:20211030T000000
DTEND:20211030T235900
LOCATION:Horsens\, DEN
URL:https://facebook.com/events/s/6-timer-i-parken/2853110151627734/
CATEGORIES:Ultramarathon
CONTACT:
CLASS:PUBLIC
PRIORITY:5
TRANSP:OPAQUE
END:VEVENT
END:VCALENDAR
