BEGIN:VCALENDAR
PRODID:-//http://statistik.d-u-v.org//PHP ultracalendar//EN
VERSION:2.0
METHOD:PUBLISH
BEGIN:VEVENT
DTSTAMP:20260424T204333
CREATED:20211027T115233
UID:1777063413.0.24933800-80673@statistik.d-u-v.org
SUMMARY:48-Stundenlauf Aare-Insel Brugg - 100mi Split
DESCRIPTION: 48-Stundenlauf Aare-Insel Brugg - 100mi Split\n
  Fredi Büchler\n
  fredibuechler[at]24stundenlauf.ch
DTSTART:20211022T120000
DTEND:00000000T235900
LOCATION:Brugg\, SUI
URL:https://www.48stundenlauf.ch/
CATEGORIES:Ultramarathon
CONTACT:Fredi Büchler
CLASS:PUBLIC
PRIORITY:5
TRANSP:OPAQUE
END:VEVENT
END:VCALENDAR
