BEGIN:VCALENDAR
PRODID:-//http://statistik.d-u-v.org//PHP ultracalendar//EN
VERSION:2.0
METHOD:PUBLISH
BEGIN:VEVENT
DTSTAMP:20260419T233223
CREATED:20211025T144036
UID:1776641543.0.38134000-80606@statistik.d-u-v.org
SUMMARY:Orsières-Champex-Chamonix (OCC)
DESCRIPTION: Orsières-Champex-Chamonix (OCC)\n
  Nathalie Ecuer\n
  info[at]utmbmontblanc.com
DTSTART:20220825T081500
DTEND:00000000T235900
LOCATION:Orsieres\, SUI
URL:https://utmbmontblanc.com
CATEGORIES:Ultramarathon
CONTACT:Nathalie Ecuer
CLASS:PUBLIC
PRIORITY:5
TRANSP:OPAQUE
END:VEVENT
END:VCALENDAR
