BEGIN:VCALENDAR
PRODID:-//http://statistik.d-u-v.org//PHP ultracalendar//EN
VERSION:2.0
METHOD:PUBLISH
BEGIN:VEVENT
DTSTAMP:20260419T171501
CREATED:20211024T192545
UID:1776618901.0.89719500-80594@statistik.d-u-v.org
SUMMARY:6-Stunden-Lauf Bremen
DESCRIPTION: 6-Stunden-Lauf Bremen\n
  Thomas Hendrik Adick\n
  kontakt[at]bremenracing.de
DTSTART:20221023T083000
DTEND:20221023T143000
LOCATION:Bremen\, GER
URL:https://6-stunden-lauf-bremen.de/
CATEGORIES:Ultramarathon
CONTACT:Thomas Hendrik Adick
CLASS:PUBLIC
PRIORITY:5
TRANSP:OPAQUE
END:VEVENT
END:VCALENDAR
