BEGIN:VCALENDAR
PRODID:-//http://statistik.d-u-v.org//PHP ultracalendar//EN
VERSION:2.0
METHOD:PUBLISH
BEGIN:VEVENT
DTSTAMP:20260419T233225
CREATED:20211020T112437
UID:1776641545.0.11081300-80499@statistik.d-u-v.org
SUMMARY:Happy Camper 200 Mile Fun Run
DESCRIPTION: Happy Camper 200 Mile Fun Run\n
  Darin Lewandowski\n
  happycamperfunrun[at]gmail.com
DTSTART:20210616T080000
DTEND:20210620T235900
LOCATION:Westminster, CO\, USA
URL:https://mrgraph.com/happy-camper-fun-run
CATEGORIES:Ultramarathon
CONTACT:Darin Lewandowski
CLASS:PUBLIC
PRIORITY:5
TRANSP:OPAQUE
END:VEVENT
END:VCALENDAR
