BEGIN:VCALENDAR
PRODID:-//http://statistik.d-u-v.org//PHP ultracalendar//EN
VERSION:2.0
METHOD:PUBLISH
BEGIN:VEVENT
DTSTAMP:20260419T192242
CREATED:20211019T161755
UID:1776626562.0.68630200-80476@statistik.d-u-v.org
SUMMARY:Flagstaff Extreme Big Pine 54K Trail Run
DESCRIPTION: Flagstaff Extreme Big Pine 54K Trail Run\n
  Noah\n
  info[at]aravaiparunning.com
DTSTART:20210612T070000
DTEND:20210613T170000
LOCATION:Flagstaff, AZ\, USA
URL:http://www.aravaiparunning.com/big-pine/
CATEGORIES:Ultramarathon
CONTACT:Noah
CLASS:PUBLIC
PRIORITY:5
TRANSP:OPAQUE
END:VEVENT
END:VCALENDAR
