BEGIN:VCALENDAR
PRODID:-//http://statistik.d-u-v.org//PHP ultracalendar//EN
VERSION:2.0
METHOD:PUBLISH
BEGIN:VEVENT
DTSTAMP:20260419T200544
CREATED:20211016T154827
UID:1776629144.0.86849000-80416@statistik.d-u-v.org
SUMMARY:Penang International 12 Hours Walk - 50 km Split
DESCRIPTION: Penang International 12 Hours Walk - 50 km Split\n
  \n
  racewalkermalaysia[at]gmail.com
DTSTART:20140503T200000
DTEND:20140504T080000
LOCATION:Penang\, MAS
URL:http://www.actifestyle.com/view_event_update.php?event_id=7&update_id=28
CATEGORIES:Ultramarathon
CONTACT:
CLASS:PUBLIC
PRIORITY:5
TRANSP:OPAQUE
END:VEVENT
END:VCALENDAR
