BEGIN:VCALENDAR
PRODID:-//http://statistik.d-u-v.org//PHP ultracalendar//EN
VERSION:2.0
METHOD:PUBLISH
BEGIN:VEVENT
DTSTAMP:20260419T164519
CREATED:20211016T094032
UID:1776617119.0.63600000-80408@statistik.d-u-v.org
SUMMARY:Adelaide Harriers Walking Track
DESCRIPTION: Adelaide Harriers Walking Track\n
  \n
  
DTSTART:19730928T100000
DTEND:19730929T100000
LOCATION:Adelaide City\, AUS
URL:http://www.centurions.org.au/documents/cent-history.pdf
CATEGORIES:Ultramarathon
CONTACT:
CLASS:PUBLIC
PRIORITY:5
TRANSP:OPAQUE
END:VEVENT
END:VCALENDAR
