BEGIN:VCALENDAR
PRODID:-//http://statistik.d-u-v.org//PHP ultracalendar//EN
VERSION:2.0
METHOD:PUBLISH
BEGIN:VEVENT
DTSTAMP:20260419T164652
CREATED:20211013T202119
UID:1776617212.0.15533400-80260@statistik.d-u-v.org
SUMMARY:ABM Jędraszek UltraPark Weekend 24h - 12h Split
DESCRIPTION: ABM Jędraszek UltraPark Weekend 24h - 12h Split\n
  Piotr Kardas\n
  biuro.ultrapark[at]gmail.com
DTSTART:20210828T070000
DTEND:20210829T070000
LOCATION:Pabianice\, POL
URL:http://ultrapark.com.pl
CATEGORIES:Ultramarathon
CONTACT:Piotr Kardas
CLASS:PUBLIC
PRIORITY:5
TRANSP:OPAQUE
END:VEVENT
END:VCALENDAR
