BEGIN:VCALENDAR
PRODID:-//http://statistik.d-u-v.org//PHP ultracalendar//EN
VERSION:2.0
METHOD:PUBLISH
BEGIN:VEVENT
DTSTAMP:20260419T185825
CREATED:20211011T234206
UID:1776625105.0.57716000-80184@statistik.d-u-v.org
SUMMARY:The Joust 12h Race
DESCRIPTION: The Joust 12h Race\n
  Steven Worrallo\n
  info[at]ultrarunningltd.co.uk
DTSTART:20220625T090000
DTEND:00000000T235900
LOCATION:Worcester\, GBR
URL:http://www.ultrarunningltd.co.uk/thejoust24hr.html
CATEGORIES:Ultramarathon
CONTACT:Steven Worrallo
CLASS:PUBLIC
PRIORITY:5
TRANSP:OPAQUE
END:VEVENT
END:VCALENDAR
