BEGIN:VCALENDAR
PRODID:-//http://statistik.d-u-v.org//PHP ultracalendar//EN
VERSION:2.0
METHOD:PUBLISH
BEGIN:VEVENT
DTSTAMP:20260422T105911
CREATED:20210927T210024
UID:1776855551.0.03991000-79878@statistik.d-u-v.org
SUMMARY:12h-Nachtlauf
DESCRIPTION: 12h-Nachtlauf\n
  Karl Meyer\n
  karl[at]meyer-velen.de
DTSTART:20210924T180000
DTEND:20210925T060000
LOCATION:Velen\, GER
URL:https://www.sf-nordvelen.de/tgl/index.php
CATEGORIES:Ultramarathon
CONTACT:Karl Meyer
CLASS:PUBLIC
PRIORITY:5
TRANSP:OPAQUE
END:VEVENT
END:VCALENDAR
