BEGIN:VCALENDAR
PRODID:-//http://statistik.d-u-v.org//PHP ultracalendar//EN
VERSION:2.0
METHOD:PUBLISH
BEGIN:VEVENT
DTSTAMP:20260420T022456
CREATED:20210926T152334
UID:1776651896.0.46549500-79844@statistik.d-u-v.org
SUMMARY:VXO Trail
DESCRIPTION: VXO Trail\n
  Fredrik Saarnak\n
  vaxjoloparklubb[at]gmail.com
DTSTART:20220514T000000
DTEND:00000000T235900
LOCATION:Växjö\, SWE
URL:https://www.vaxjoloparklubb.nu/
CATEGORIES:Ultramarathon
CONTACT:Fredrik Saarnak
CLASS:PUBLIC
PRIORITY:5
TRANSP:OPAQUE
END:VEVENT
END:VCALENDAR
