BEGIN:VCALENDAR
PRODID:-//http://statistik.d-u-v.org//PHP ultracalendar//EN
VERSION:2.0
METHOD:PUBLISH
BEGIN:VEVENT
DTSTAMP:20260419T200419
CREATED:20210920T020355
UID:1776629059.0.22158500-79705@statistik.d-u-v.org
SUMMARY:Dolichos Race Delphi - Olympia
DESCRIPTION: Dolichos Race Delphi - Olympia\n
  Ioannis Germakopoulos\n
  info[at]doliho.gr
DTSTART:20210917T170000
DTEND:20210919T170000
LOCATION:Delphi\, GRE
URL:http://www.doliho.gr
CATEGORIES:Ultramarathon
CONTACT:Ioannis Germakopoulos
CLASS:PUBLIC
PRIORITY:5
TRANSP:OPAQUE
END:VEVENT
END:VCALENDAR
