BEGIN:VCALENDAR
PRODID:-//http://statistik.d-u-v.org//PHP ultracalendar//EN
VERSION:2.0
METHOD:PUBLISH
BEGIN:VEVENT
DTSTAMP:20260423T025020
CREATED:20210917T165023
UID:1776912620.0.14978700-79610@statistik.d-u-v.org
SUMMARY:Transgrancanaria 129 km
DESCRIPTION: Transgrancanaria 129 km\n
  Fernando González\n
  info[at]transgrancanaria.net
DTSTART:20220304T230000
DTEND:20220306T050000
LOCATION:Las Palmas\, ESP
URL:http://www.transgrancanaria.net
CATEGORIES:Ultramarathon
CONTACT:Fernando González
CLASS:PUBLIC
PRIORITY:5
TRANSP:OPAQUE
END:VEVENT
END:VCALENDAR
