BEGIN:VCALENDAR
PRODID:-//http://statistik.d-u-v.org//PHP ultracalendar//EN
VERSION:2.0
METHOD:PUBLISH
BEGIN:VEVENT
DTSTAMP:20260424T214637
CREATED:20210917T082631
UID:1777067197.0.02285900-79589@statistik.d-u-v.org
SUMMARY:Bukhansan Dulle-gil Trail Run
DESCRIPTION: Bukhansan Dulle-gil Trail Run\n
  \n
  kum1500[at]hanmail.net
DTSTART:20190602T050000
DTEND:00000000T235900
LOCATION:Seoul City\, KOR
URL:http://www.kum1500.net/index.php?mid=free&page=9&document_srl=1397933
CATEGORIES:Ultramarathon
CONTACT:
CLASS:PUBLIC
PRIORITY:5
TRANSP:OPAQUE
END:VEVENT
END:VCALENDAR
