BEGIN:VCALENDAR
PRODID:-//http://statistik.d-u-v.org//PHP ultracalendar//EN
VERSION:2.0
METHOD:PUBLISH
BEGIN:VEVENT
DTSTAMP:20260424T174722
CREATED:20210917T075307
UID:1777052842.0.64568000-79587@statistik.d-u-v.org
SUMMARY:Han River traversal 50 km
DESCRIPTION: Han River traversal 50 km\n
  \n
  kum1500[at]hanmail.net
DTSTART:20181208T070000
DTEND:00000000T235900
LOCATION:Seoul City\, KOR
URL:http://www.kum1500.net/index.php?mid=free&page=9&document_srl=1397212
CATEGORIES:Ultramarathon
CONTACT:
CLASS:PUBLIC
PRIORITY:5
TRANSP:OPAQUE
END:VEVENT
END:VCALENDAR
