BEGIN:VCALENDAR
PRODID:-//http://statistik.d-u-v.org//PHP ultracalendar//EN
VERSION:2.0
METHOD:PUBLISH
BEGIN:VEVENT
DTSTAMP:20260425T215147
CREATED:20100424T233320
UID:1777153907.0.31960400-7949@statistik.d-u-v.org
SUMMARY:Täby Extreme Challenge 50 km
DESCRIPTION: Täby Extreme Challenge 50 km\n
  Patrick Joyce\n
  TECloppet[at]gmail.com
DTSTART:20100410T100000
DTEND:20100411T160000
LOCATION:Täby\, SWE
URL:http://www.colibri.se/TEC/index.html
CATEGORIES:Ultramarathon
CONTACT:Patrick Joyce
CLASS:PUBLIC
PRIORITY:5
TRANSP:OPAQUE
END:VEVENT
END:VCALENDAR
