BEGIN:VCALENDAR
PRODID:-//http://statistik.d-u-v.org//PHP ultracalendar//EN
VERSION:2.0
METHOD:PUBLISH
BEGIN:VEVENT
DTSTAMP:20260421T151537
CREATED:20210909T002315
UID:1776784537.0.18955600-79355@statistik.d-u-v.org
SUMMARY:Bielersee XXL 160 km
DESCRIPTION: Bielersee XXL 160 km\n
  Christoph Allemann\n
  info[at]ultrabielersee.ch
DTSTART:20220513T100000
DTEND:20220514T180000
LOCATION:Nidau\, SUI
URL:http://www.ultrabielersee.ch
CATEGORIES:Ultramarathon
CONTACT:Christoph Allemann
CLASS:PUBLIC
PRIORITY:5
TRANSP:OPAQUE
END:VEVENT
END:VCALENDAR
