BEGIN:VCALENDAR
PRODID:-//http://statistik.d-u-v.org//PHP ultracalendar//EN
VERSION:2.0
METHOD:PUBLISH
BEGIN:VEVENT
DTSTAMP:20260421T145344
CREATED:20210909T001928
UID:1776783224.0.11850800-79353@statistik.d-u-v.org
SUMMARY:Bielersee XXL 200 km
DESCRIPTION: Bielersee XXL 200 km\n
  Christoph Allemann\n
  info[at]ultrabielersee.ch
DTSTART:20220513T100000
DTEND:20220514T180000
LOCATION:Nidau\, SUI
URL:http://www.ultrabielersee.ch
CATEGORIES:Ultramarathon
CONTACT:Christoph Allemann
CLASS:PUBLIC
PRIORITY:5
TRANSP:OPAQUE
END:VEVENT
END:VCALENDAR
