BEGIN:VCALENDAR
PRODID:-//http://statistik.d-u-v.org//PHP ultracalendar//EN
VERSION:2.0
METHOD:PUBLISH
BEGIN:VEVENT
DTSTAMP:20260425T220317
CREATED:20210903T122338
UID:1777154597.0.42735500-79261@statistik.d-u-v.org
SUMMARY:Täby Extreme Challenge Backyard
DESCRIPTION: Täby Extreme Challenge Backyard\n
  David Sundvall\n
  info[at]tec100.se
DTSTART:20211015T180000
DTEND:00000000T235900
LOCATION:Täby\, SWE
URL:http://new.tec100.se/
CATEGORIES:Ultramarathon
CONTACT:David Sundvall
CLASS:PUBLIC
PRIORITY:5
TRANSP:OPAQUE
END:VEVENT
END:VCALENDAR
