BEGIN:VCALENDAR
PRODID:-//http://statistik.d-u-v.org//PHP ultracalendar//EN
VERSION:2.0
METHOD:PUBLISH
BEGIN:VEVENT
DTSTAMP:20260420T075433
CREATED:20210303T152652
UID:1776671673.0.21743800-79221@statistik.d-u-v.org
SUMMARY:Run Adelaide Hundred
DESCRIPTION: Run Adelaide Hundred\n
  Ben Hocking\n
  hockings.ben[at]gmail.com
DTSTART:20220515T000000
DTEND:00000000T235900
LOCATION:Adelaide, SA\, AUS
URL:https://ultrahard.com.au/
CATEGORIES:Ultramarathon
CONTACT:Ben Hocking
CLASS:PUBLIC
PRIORITY:5
TRANSP:OPAQUE
END:VEVENT
END:VCALENDAR
