BEGIN:VCALENDAR
PRODID:-//http://statistik.d-u-v.org//PHP ultracalendar//EN
VERSION:2.0
METHOD:PUBLISH
BEGIN:VEVENT
DTSTAMP:20260423T050432
CREATED:20210902T135514
UID:1776920672.0.61679400-79209@statistik.d-u-v.org
SUMMARY:Silver Moon 100 Mile Race - Paso Robles
DESCRIPTION: Silver Moon 100 Mile Race - Paso Robles\n
  \n
  
DTSTART:20220514T000000
DTEND:20220515T235900
LOCATION:Paso Robles, CA\, USA
URL:https://silvermoonrace.com/paso-robles/#details
CATEGORIES:Ultramarathon
CONTACT:
CLASS:PUBLIC
PRIORITY:5
TRANSP:OPAQUE
END:VEVENT
END:VCALENDAR
