BEGIN:VCALENDAR
PRODID:-//http://statistik.d-u-v.org//PHP ultracalendar//EN
VERSION:2.0
METHOD:PUBLISH
BEGIN:VEVENT
DTSTAMP:20260424T214638
CREATED:20210902T052551
UID:1777067198.0.57089600-79187@statistik.d-u-v.org
SUMMARY:Bukhansan Dulle-gil Trail Run
DESCRIPTION: Bukhansan Dulle-gil Trail Run\n
  \n
  kum1500[at]hanmail.net
DTSTART:20201121T070000
DTEND:00000000T235900
LOCATION:Seoul City\, KOR
URL:http://www.roadrun.co.kr/schedule/view.php?no=8505
CATEGORIES:Ultramarathon
CONTACT:
CLASS:PUBLIC
PRIORITY:5
TRANSP:OPAQUE
END:VEVENT
END:VCALENDAR
