BEGIN:VCALENDAR
PRODID:-//http://statistik.d-u-v.org//PHP ultracalendar//EN
VERSION:2.0
METHOD:PUBLISH
BEGIN:VEVENT
DTSTAMP:20260425T173812
CREATED:20210901T100923
UID:1777138692.0.10709700-79169@statistik.d-u-v.org
SUMMARY:Gangbuk 5 Mountain Trail Run
DESCRIPTION: Gangbuk 5 Mountain Trail Run\n
  \n
  mina2628[at]nate.com
DTSTART:20180603T040000
DTEND:00000000T235900
LOCATION:Seoul\, KOR
URL:http://www.roadrun.co.kr/schedule/view.php?no=7327
CATEGORIES:Ultramarathon
CONTACT:
CLASS:PUBLIC
PRIORITY:5
TRANSP:OPAQUE
END:VEVENT
END:VCALENDAR
