BEGIN:VCALENDAR
PRODID:-//http://statistik.d-u-v.org//PHP ultracalendar//EN
VERSION:2.0
METHOD:PUBLISH
BEGIN:VEVENT
DTSTAMP:20260424T155205
CREATED:20210901T091743
UID:1777045925.0.01408300-79166@statistik.d-u-v.org
SUMMARY:5 Mountain Climbathon
DESCRIPTION: 5 Mountain Climbathon\n
  \n
  komori1127[at]hanmail.net
DTSTART:20171112T030000
DTEND:00000000T235900
LOCATION:Seoul City\, KOR
URL:http://www.roadrun.co.kr/schedule/view.php?no=6973
CATEGORIES:Ultramarathon
CONTACT:
CLASS:PUBLIC
PRIORITY:5
TRANSP:OPAQUE
END:VEVENT
END:VCALENDAR
