BEGIN:VCALENDAR
PRODID:-//http://statistik.d-u-v.org//PHP ultracalendar//EN
VERSION:2.0
METHOD:PUBLISH
BEGIN:VEVENT
DTSTAMP:20260423T023805
CREATED:20100407T141535
UID:1776911885.0.50748800-7913@statistik.d-u-v.org
SUMMARY:GB Ultra Thames Trot
DESCRIPTION: GB Ultra Thames Trot\n
  Steve Adams\n
  steve[at]gobeyondchallenge.co.uk
DTSTART:20110205T083000
DTEND:00000000T235900
LOCATION:Oxford\, GBR
URL:http://www.gobeyondultra.co.uk
CATEGORIES:Ultramarathon
CONTACT:Steve Adams
CLASS:PUBLIC
PRIORITY:5
TRANSP:OPAQUE
END:VEVENT
END:VCALENDAR
