BEGIN:VCALENDAR
PRODID:-//http://statistik.d-u-v.org//PHP ultracalendar//EN
VERSION:2.0
METHOD:PUBLISH
BEGIN:VEVENT
DTSTAMP:20260419T183249
CREATED:20210830T175933
UID:1776623569.0.91701000-79123@statistik.d-u-v.org
SUMMARY:Pigtails Challenge 200 Mile
DESCRIPTION: Pigtails Challenge 200 Mile\n
  Terry Sentinella\n
  nwenduranceevents[at]gmail.com
DTSTART:20210527T060000
DTEND:20210530T235900
LOCATION:Renton, WA\, USA
URL:http://www.nwenduranceevents.com/pigtails/
CATEGORIES:Ultramarathon
CONTACT:Terry Sentinella
CLASS:PUBLIC
PRIORITY:5
TRANSP:OPAQUE
END:VEVENT
END:VCALENDAR
