BEGIN:VCALENDAR
PRODID:-//http://statistik.d-u-v.org//PHP ultracalendar//EN
VERSION:2.0
METHOD:PUBLISH
BEGIN:VEVENT
DTSTAMP:20260425T173806
CREATED:20210827T104126
UID:1777138686.0.91301100-79046@statistik.d-u-v.org
SUMMARY:KUMF 6H Cup - Group B Run
DESCRIPTION: KUMF 6H Cup - Group B Run\n
  \n
  jjs4196[at]hotmail.com
DTSTART:20210502T010000
DTEND:00000000T235900
LOCATION:Seoul\, KOR
URL:http://www.kumf.kr/main/ra/race/list_K/view.php?idx1=race&idx2=0&rakind2=8
CATEGORIES:Ultramarathon
CONTACT:
CLASS:PUBLIC
PRIORITY:5
TRANSP:OPAQUE
END:VEVENT
END:VCALENDAR
