BEGIN:VCALENDAR
PRODID:-//http://statistik.d-u-v.org//PHP ultracalendar//EN
VERSION:2.0
METHOD:PUBLISH
BEGIN:VEVENT
DTSTAMP:20260419T233206
CREATED:20210826T134928
UID:1776641526.0.26164400-79032@statistik.d-u-v.org
SUMMARY:High Lea 24 Hour Race
DESCRIPTION: High Lea 24 Hour Race\n
  \n
  jennifer1986cf[at]msn.com
DTSTART:20220521T070000
DTEND:20220522T235900
LOCATION:Richfield, OH\, USA
URL:https://fastgirlsrunningcompany.com/
CATEGORIES:Ultramarathon
CONTACT:
CLASS:PUBLIC
PRIORITY:5
TRANSP:OPAQUE
END:VEVENT
END:VCALENDAR
