BEGIN:VCALENDAR
PRODID:-//http://statistik.d-u-v.org//PHP ultracalendar//EN
VERSION:2.0
METHOD:PUBLISH
BEGIN:VEVENT
DTSTAMP:20260419T164624
CREATED:20210824T170212
UID:1776617184.0.62879100-78995@statistik.d-u-v.org
SUMMARY:Bishop High Sierra Ultramarathons 55 km
DESCRIPTION: Bishop High Sierra Ultramarathons 55 km\n
  \n
  
DTSTART:20210522T000000
DTEND:00000000T235900
LOCATION:Bishop, CA\, USA
URL:http://bishopultras.com/
CATEGORIES:Ultramarathon
CONTACT:
CLASS:PUBLIC
PRIORITY:5
TRANSP:OPAQUE
END:VEVENT
END:VCALENDAR
