BEGIN:VCALENDAR
PRODID:-//http://statistik.d-u-v.org//PHP ultracalendar//EN
VERSION:2.0
METHOD:PUBLISH
BEGIN:VEVENT
DTSTAMP:20260425T233215
CREATED:20210811T133209
UID:1777159935.0.57497000-78865@statistik.d-u-v.org
SUMMARY:Great Walker Beijing - 50 km
DESCRIPTION: Great Walker Beijing - 50 km\n
  \n
  shanxingzhe[at]fupin.org.cn
DTSTART:20191013T070000
DTEND:00000000T235900
LOCATION:Beijing City\, CHN
URL:https://itra.run/Races/RaceDetails?raceYearId=51115
CATEGORIES:Ultramarathon
CONTACT:
CLASS:PUBLIC
PRIORITY:5
TRANSP:OPAQUE
END:VEVENT
END:VCALENDAR
