BEGIN:VCALENDAR
PRODID:-//http://statistik.d-u-v.org//PHP ultracalendar//EN
VERSION:2.0
METHOD:PUBLISH
BEGIN:VEVENT
DTSTAMP:20260422T205954
CREATED:20210804T070305
UID:1776891594.0.28458800-78763@statistik.d-u-v.org
SUMMARY:6 Stunden Lauf Werl
DESCRIPTION: 6 Stunden Lauf Werl\n
  Michael Ziemba\n
  6stundenwerl[at]gmail.com
DTSTART:20210918T100000
DTEND:20210918T160000
LOCATION:Werl\, GER
URL:https://my.raceresult.com/176320/
CATEGORIES:Ultramarathon
CONTACT:Michael Ziemba
CLASS:PUBLIC
PRIORITY:5
TRANSP:OPAQUE
END:VEVENT
END:VCALENDAR
