BEGIN:VCALENDAR
PRODID:-//http://statistik.d-u-v.org//PHP ultracalendar//EN
VERSION:2.0
METHOD:PUBLISH
BEGIN:VEVENT
DTSTAMP:20260419T164640
CREATED:20210802T183238
UID:1776617200.0.50252700-78712@statistik.d-u-v.org
SUMMARY:Firebreak 50 Mile Ultra
DESCRIPTION: Firebreak 50 Mile Ultra\n
  \n
  
DTSTART:20210515T000000
DTEND:00000000T235900
LOCATION:Columbia, SC\, USA
URL:https://runsignup.com/Race/Info/SC/Columbia/FirebreakUltraFKTChallenge
CATEGORIES:Ultramarathon
CONTACT:
CLASS:PUBLIC
PRIORITY:5
TRANSP:OPAQUE
END:VEVENT
END:VCALENDAR
