BEGIN:VCALENDAR
PRODID:-//http://statistik.d-u-v.org//PHP ultracalendar//EN
VERSION:2.0
METHOD:PUBLISH
BEGIN:VEVENT
DTSTAMP:20260423T043332
CREATED:20100403T154316
UID:1776918812.0.17845900-7863@statistik.d-u-v.org
SUMMARY:Old Dominion 100 Mile Endurance Run
DESCRIPTION: Old Dominion 100 Mile Endurance Run\n
  \n
  
DTSTART:19970531T000000
DTEND:19970601T235900
LOCATION:Woodstock, VA\, USA
URL:http://www.olddominionrun.org/
CATEGORIES:Ultramarathon
CONTACT:
CLASS:PUBLIC
PRIORITY:5
TRANSP:OPAQUE
END:VEVENT
END:VCALENDAR
