BEGIN:VCALENDAR
PRODID:-//http://statistik.d-u-v.org//PHP ultracalendar//EN
VERSION:2.0
METHOD:PUBLISH
BEGIN:VEVENT
DTSTAMP:20260419T185816
CREATED:20210728T143514
UID:1776625096.0.65291700-78612@statistik.d-u-v.org
SUMMARY:Berliner Vollmond-Marathon
DESCRIPTION: Berliner Vollmond-Marathon\n
  Frank-Ulrich Etzrodt\n
  lg.saatwinkel[at]gmail.com
DTSTART:20220910T180000
DTEND:00000000T235900
LOCATION:Berlin\, GER
URL:http://www.vollmond-marathon.etzrodt.in
CATEGORIES:Ultramarathon
CONTACT:Frank-Ulrich Etzrodt
CLASS:PUBLIC
PRIORITY:5
TRANSP:OPAQUE
END:VEVENT
END:VCALENDAR
