BEGIN:VCALENDAR
PRODID:-//http://statistik.d-u-v.org//PHP ultracalendar//EN
VERSION:2.0
METHOD:PUBLISH
BEGIN:VEVENT
DTSTAMP:20260420T081532
CREATED:20210727T162631
UID:1776672932.0.61233200-78592@statistik.d-u-v.org
SUMMARY:Sinister 7 Ultra
DESCRIPTION: Sinister 7 Ultra\n
  Brian Gallant\n
  info[at]sinistersports.ca
DTSTART:20220709T070000
DTEND:20220710T235900
LOCATION:Blairmore, AB\, CAN
URL:http://www.sinister7.com/
CATEGORIES:Ultramarathon
CONTACT:Brian Gallant
CLASS:PUBLIC
PRIORITY:5
TRANSP:OPAQUE
END:VEVENT
END:VCALENDAR
