BEGIN:VCALENDAR
PRODID:-//http://statistik.d-u-v.org//PHP ultracalendar//EN
VERSION:2.0
METHOD:PUBLISH
BEGIN:VEVENT
DTSTAMP:20260419T185902
CREATED:20210725T131726
UID:1776625142.0.57646700-78545@statistik.d-u-v.org
SUMMARY:Brighton to London and Back
DESCRIPTION: Brighton to London and Back\n
  \n
  
DTSTART:19540716T220000
DTEND:19540717T235900
LOCATION:Brighton\, GBR
URL:
CATEGORIES:Ultramarathon
CONTACT:
CLASS:PUBLIC
PRIORITY:5
TRANSP:OPAQUE
END:VEVENT
END:VCALENDAR
