BEGIN:VCALENDAR
PRODID:-//http://statistik.d-u-v.org//PHP ultracalendar//EN
VERSION:2.0
METHOD:PUBLISH
BEGIN:VEVENT
DTSTAMP:20260423T041048
CREATED:20210720T213022
UID:1776917448.0.96661700-78497@statistik.d-u-v.org
SUMMARY:Hills Creek 6 Hour Endurance Challenge
DESCRIPTION: Hills Creek 6 Hour Endurance Challenge\n
  \n
  
DTSTART:20210508T080000
DTEND:00000000T235900
LOCATION:Wellsboro, PA\, USA
URL:https://www.facebook.com/HillsCreekEnduranceChallenge/
CATEGORIES:Ultramarathon
CONTACT:
CLASS:PUBLIC
PRIORITY:5
TRANSP:OPAQUE
END:VEVENT
END:VCALENDAR
