BEGIN:VCALENDAR
PRODID:-//http://statistik.d-u-v.org//PHP ultracalendar//EN
VERSION:2.0
METHOD:PUBLISH
BEGIN:VEVENT
DTSTAMP:20260422T125904
CREATED:20100403T081504
UID:1776862744.0.80735200-7848@statistik.d-u-v.org
SUMMARY:Velencei-Tó Szupermaraton
DESCRIPTION: Velencei-Tó Szupermaraton\n
  Varga István\n
  varga[at]velenceitomaraton.hu
DTSTART:20100829T000000
DTEND:00000000T235900
LOCATION:Velence\, HUN
URL:http://www.velenceitomaraton.hu/
CATEGORIES:Ultramarathon
CONTACT:Varga István
CLASS:PUBLIC
PRIORITY:5
TRANSP:OPAQUE
END:VEVENT
END:VCALENDAR
