BEGIN:VCALENDAR
PRODID:-//http://statistik.d-u-v.org//PHP ultracalendar//EN
VERSION:2.0
METHOD:PUBLISH
BEGIN:VEVENT
DTSTAMP:20260422T221342
CREATED:20210718T104057
UID:1776896022.0.26508700-78460@statistik.d-u-v.org
SUMMARY:Six Days in the Dome - The Redux 24h Day 1
DESCRIPTION: Six Days in the Dome - The Redux 24h Day 1\n
  RD Steve Durbin\n
  
DTSTART:20210618T080000
DTEND:20210619T235900
LOCATION:Milwaukee, WI\, USA
URL:https://www.run6days.com/
CATEGORIES:Ultramarathon
CONTACT:RD Steve Durbin
CLASS:PUBLIC
PRIORITY:5
TRANSP:OPAQUE
END:VEVENT
END:VCALENDAR
