BEGIN:VCALENDAR
PRODID:-//http://statistik.d-u-v.org//PHP ultracalendar//EN
VERSION:2.0
METHOD:PUBLISH
BEGIN:VEVENT
DTSTAMP:20260423T034854
CREATED:20100403T081504
UID:1776916134.0.85337100-7838@statistik.d-u-v.org
SUMMARY:Bighorn Mountain Wild & Scenic 50km Trail Run
DESCRIPTION: Bighorn Mountain Wild & Scenic 50km Trail Run\n
  \n
  
DTSTART:20020623T000000
DTEND:20020624T235900
LOCATION:Dayton, WY\, USA
URL:http://www.bighorntrailrun.com/
CATEGORIES:Ultramarathon
CONTACT:
CLASS:PUBLIC
PRIORITY:5
TRANSP:OPAQUE
END:VEVENT
END:VCALENDAR
