BEGIN:VCALENDAR
PRODID:-//http://statistik.d-u-v.org//PHP ultracalendar//EN
VERSION:2.0
METHOD:PUBLISH
BEGIN:VEVENT
DTSTAMP:20260420T060808
CREATED:20210701T080731
UID:1776665288.0.21034200-78290@statistik.d-u-v.org
SUMMARY:Endurancelife CTS - Exmoor Ultra
DESCRIPTION: Endurancelife CTS - Exmoor Ultra\n
  \n
  support[at]endurancelife.com
DTSTART:20220611T000000
DTEND:00000000T235900
LOCATION:Martinhoe\, GBR
URL:https://www.endurancelife.com/exmoor
CATEGORIES:Ultramarathon
CONTACT:
CLASS:PUBLIC
PRIORITY:5
TRANSP:OPAQUE
END:VEVENT
END:VCALENDAR
