BEGIN:VCALENDAR
PRODID:-//http://statistik.d-u-v.org//PHP ultracalendar//EN
VERSION:2.0
METHOD:PUBLISH
BEGIN:VEVENT
DTSTAMP:20260419T213449
CREATED:20210624T083854
UID:1776634489.0.59109800-78164@statistik.d-u-v.org
SUMMARY:Endurancelife CTS - Classic Quarter 
DESCRIPTION: Endurancelife CTS - Classic Quarter \n
  \n
  support[at]endurancelife.com
DTSTART:20220521T054500
DTEND:00000000T235900
LOCATION:Lizard Point\, GBR
URL:https://www.endurancelife.com/classicquarter
CATEGORIES:Ultramarathon
CONTACT:
CLASS:PUBLIC
PRIORITY:5
TRANSP:OPAQUE
END:VEVENT
END:VCALENDAR
