BEGIN:VCALENDAR
PRODID:-//http://statistik.d-u-v.org//PHP ultracalendar//EN
VERSION:2.0
METHOD:PUBLISH
BEGIN:VEVENT
DTSTAMP:20260422T221407
CREATED:20210623T193023
UID:1776896047.0.68423400-78142@statistik.d-u-v.org
SUMMARY:Nacht van Vlaanderen Run - 50 km
DESCRIPTION: Nacht van Vlaanderen Run - 50 km\n
  \n
  amos[at]telenet.be
DTSTART:20210620T100000
DTEND:00000000T235900
LOCATION:Torhout\, BEL
URL:https://www.nvv.be/alternatieve-loopwedstrijd-nvv
CATEGORIES:Ultramarathon
CONTACT:
CLASS:PUBLIC
PRIORITY:5
TRANSP:OPAQUE
END:VEVENT
END:VCALENDAR
