BEGIN:VCALENDAR
PRODID:-//http://statistik.d-u-v.org//PHP ultracalendar//EN
VERSION:2.0
METHOD:PUBLISH
BEGIN:VEVENT
DTSTAMP:20260422T231326
CREATED:20101128T132433
UID:1776899606.0.74865000-7805@statistik.d-u-v.org
SUMMARY:Rüninger 24-Stundenlauf
DESCRIPTION: Rüninger 24-Stundenlauf\n
  Stefan Pulkenat\n
  TSV-24Stundenlauf[at]web.de
DTSTART:20110827T150000
DTEND:20110828T150000
LOCATION:Braunschweig\, GER
URL:http://www.lauftreff-rueninger-roadrunner.de/
CATEGORIES:Ultramarathon
CONTACT:Stefan Pulkenat
CLASS:PUBLIC
PRIORITY:5
TRANSP:OPAQUE
END:VEVENT
END:VCALENDAR
